{"text_format":"1","workbook":"xlsx","n_sheets":19,"sheets":["т.1","т.2","2.1","т.2.2","т.3","т.4","т.4.1","т.4.2","т.5","т.6","т.6.1","т.7","т.8","т.8.1","т.9","т.9.1","т.10","т.11","Лист2"],"not_rendered":{"charts":0,"images":0,"macros":1,"external_links":1,"defined_names":0,"comments":0,"pivot_tables":0},"unopened":[],"bounds":{"document_bytes":16777216,"sheet_cells":100000,"rows_first":2000,"rows_last":500,"rows_between":2000,"halvings":0,"cell_chars":16384,"cell_head_chars":4096},"cells_cut":0,"cells_raw":0,"read":"whole","date_system":"1900"}

{"sheet":"т.1","index":0,"n_rows":56,"n_cols":9,"rows_kept":56,"cut":false,"hidden":false,"merged":[[1,0,1,8],[3,2,3,4],[3,5,3,8],[4,5,4,6],[4,7,4,8]]}
[null,null,null,null,null,null,null,null,"Таблица 1"]
["Количество населения и общедоступных библиотек Министерства культуры"]
[]
["№","ЦБС","Население ( чел. в тыс.)",null,null,"Количество библиотек"]
[null,null,"Всего","гор.","сельск.",2018,null,2019]
[null,null,null,null,null,"всего","из них в","всего","из них в"]
[null,null,null,null,null,null,"сельской ",null,"сельской"]
[null,null,null,null,null,null,"местн.",null," местн."]
[1,"Абыйская",4,2,2,7,5,7,5]
[2,"Аллаиховская",{"$f":"D10+E10","v":2.7},2.1,0.6,6,4,6,4]
[3,"Амгинская",16.7,null,16.7,16,16,16,16]
[4,"Анабарская",3.6,null,3.6,3,3,3,3]
[5,"Булунская",8.3000000000000007,4.5999999999999996,3.7,8,6,8,6]
[6,"Верхневилюйская*",21,null,21,22,22,23,23]
[7,"Верхнеколымская",4,2.7,1.3,7,5,7,5]
[8,"Верхоянская",11.1,4.8,6.3,17,13,17,13]
[9,"Вилюйская",25,13.8,11.2,24,20,24,20]
[10,"Горная",12,null,12,9,9,9,9]
[11,"Жиганская",4.2,null,4.2,5,5,5,5]
[12,"Кобяйская",12.3,3.7,8.6,17,15,17,15]
[13,"Ленская",36.5,31.8,4.7,21,14,21,14]
[14,"Момская",4,null,4,7,7,7,7]
[15,"Намская",24.7,null,24.7,20,20,20,20]
[16,"Нижнеколымская",4.3,2.6,1.7,6,3,6,3]
[17,"Нюрбинская",23.7,9.6999999999999993,14,23,20,23,20]
[18,"Оймяконская",8.1999999999999993,5.4,2.8,9,6,9,6]
[19,"Олекминская",24.7,9.3000000000000007,15.4,27,25,27,25]
[20,"Оленекская",4.2,null,4.2,5,5,5,5]
[21,"Среднеколымская",7.4,3.5,3.9,11,9,11,9]
[22,"Сунтарская",23.4,null,23.4,19,19,19,19]
[23,"Таттинская",16.2,null,16.2,15,15,15,15]
[24,"Томпонская",12.5,7.1,5.4,13,10,13,10]
[25,"Усть-Алданская",20.6,null,20.6,28,28,28,28]
[26,"Усть-Майская",7.4,5.3,2.1,10,5,10,5]
[27,"Усть-Янская",7,3.8,3.2,9,5,9,5]
[28,"Хангаласская",32.799999999999997,15.5,17.3,27,22,27,22]
[29,"Чурапчинская",21,null,21,19,19,19,19]
[30,"Мирнинская",72.5,70,2.5,11,3,11,3]
[31,"Нерюнгринская",73.400000000000006,72.3,1.1000000000000001,8,2,8,2]
[32,"Эвено-Бытантайский",{"$f":"D40+E40","v":2.8},null,2.8,3,3,3,3]
[33,"Якутская*",335.5,318.8,16.7,16,4,18,4]
[34,"Алданский",38.4,34.4,4,7,2,7,2]
[35,"М.-Кангаласский",30.8,4.0999999999999996,26.7,2,2,2,2]
[36,"ГБ ГП \"г.Нерюнгри \"",null,null,null,1,null,1]
[37,"Сунтарская ДЮПБ",null,null,null,1,1,1,1]
[38,"Бердигестях ДБ",null,null,null,1,1,1,1]
[39,"Хоринская Ввил.",null,null,null,1,1]
[40,"Б-ка ГО \"п. Жатай\"",{"$f":"D48+E48","v":10.1},10.1,null,1,null,1]
[null,"Итого по МБ",{"$f":"SUM(C9:C48)","v":966.99999999999977},{"$f":"SUM(D9:D48)","v":637.4},{"$f":"SUM(E9:E48)","v":329.6},{"$f":"SUM(F9:F48)","v":462},{"$f":"SUM(G9:G47)","v":374},{"$f":"SUM(H9:H48)","v":464},{"$f":"SUM(I9:I48)","v":374}]
[null,"НБ РС(Я)",null,null,null,1,null,1]
[null,"ЦДЮ НБ РС(Я)",null,null,null,1,null,1]
[null,"РБС",null,null,null,1,null,1]
[null,"ВСЕГО ",967,637.4,329.6,{"$f":"SUM(F49:F52)","v":465},{"$f":"SUM(G49:G52)","v":374},{"$f":"SUM(H49:H52)","v":467},{"$f":"SUM(I49:I52)","v":374}]
[null,"Б-ки КДУ",null,null,null,40,35,40,35]
[null,"Итого по РС(Я)",null,null,null,{"$f":"SUM(F53:F54)","v":505},{"$f":"SUM(G53:G54)","v":409},{"$f":"SUM(H53:H54)","v":507},{"$f":"SUM(I53:I54)","v":409}]
[null,"* - библиотеки, где прошла реорганизация"]

{"sheet":"т.2","index":1,"n_rows":52,"n_cols":8,"rows_kept":52,"cut":false,"hidden":false,"merged":[[1,0,1,7],[2,0,2,7],[3,2,3,4],[3,5,3,7]]}
[null,null,null,null,null,null,"Таблица 2"]
["Количество пользователей и процент охвата населения "]
["библиотечным обслуживанием"]
["№","ЦБС","кол-во пользователей",null,null,"% охвата населения библ.обслуж."]
[null,null,2018,2019,"\"+  -\"",2018,2019,"\"+  -\""]
[1,"Абыйская",3493,3203,{"$f":"D6-C6","v":-290},87,80,{"$f":"G6-F6","v":-7}]
[2,"Аллаиховская",1191,1465,{"$f":"D7-C7","v":274},44.1,54.2,{"$f":"G7-F7","v":10.100000000000001}]
[3,"Амгинская",12006,12007,1,71.8,71.900000000000006,0.10000000000000853]
[4,"Анабарская",1947,1740,-207,55.6,48.3,-7.3000000000000043]
[5,"Булунская",7223,6795,-428,87,81.900000000000006,-5.0999999999999943]
[6,"Верхневилюйская*",13606,13748,142,67.099999999999994,65.5,-1.5999999999999943]
[7,"Верхнеколымская",3745,3985,240,91.3,99,7.7000000000000028]
[8,"Верхоянская",8137,8411,{"$f":"D13-C13","v":274},71.400000000000006,75.7,4.2999999999999972]
[9,"Вилюйская",13127,12964,-163,52.5,51.8,-0.70000000000000284]
[10,"Горная",6708,6337,-371,68.8,66.5,-2.2999999999999972]
[11,"Жиганская",3816,3915,99,90.8,93.2,2.4000000000000057]
[12,"Кобяйская",10539,10546,7,84.9,85.7,0.79999999999999716]
[13,"Ленская",17605,17055,-550,47.4,46.7,-0.69999999999999574]
[14,"Момская",3156,3143,-13,76.900000000000006,78.5,1.5999999999999943]
[15,"Намская",15070,15947,877,61.3,64.5,3.2000000000000028]
[16,"Нижнеколымская",3732,3842,110,86.8,89.3,2.5]
[17,"Нюрбинская",19173,19488,315,79.900000000000006,82.2,2.2999999999999972]
[18,"Оймяконская",6437,6389,-48,75.7,77.900000000000006,2.2000000000000028]
[19,"Олекминская",15233,15067,-166,61.2,61,-0.20000000000000284]
[20,"Оленекская",2629,3193,564,64.099999999999994,76,11.900000000000006]
[21,"Среднеколымская",5520,5416,-104,73.599999999999994,73.2,-0.39999999999999147]
[22,"Сунтарская",12594,12516,-78,66.5,66.8,0.29999999999999716]
[23,"Таттинская",10871,10105,-766,66.7,62.4,-4.3000000000000043]
[24,"Томпонская",7173,7376,203,56,59,3]
[25,"Усть-Алданская",20001,20002,1,96,97,1]
[26,"Усть-Майская",5105,5382,277,68,72.7,4.7000000000000028]
[27,"Усть-Янская",3908,4106,198,55,58.6,3.6000000000000014]
[28,"Хангаласская",18559,28597,10038,56.9,87.2,30.300000000000004]
[29,"Чурапчинская",16301,15770,-531,77.2,75,-2.2000000000000028]
[30,"Мирнинская",23847,23850,3,33,32.9,-0.10000000000000142]
[31,"Нерюнгринская",13206,13208,2,38,30.6,-7.3999999999999986]
[32,"Эвено-Бытантай",1434,1452,{"$f":"D37-C37","v":18},51.2,51.8,{"$f":"G37-F37","v":0.59999999999999432}]
[33,"Якутская*",68230,69665,1435,21,20.7,-0.30000000000000071]
[34,"Алданский",15953,15093,{"$f":"D39-C39","v":-860},40.299999999999997,39.299999999999997,{"$f":"G39-F39","v":-1}]
[35,"М.-Кангаласский",6125,6129,4,19.8,19.8,{"$f":"G40-F40","v":0}]
[36,"ГБ ГП \"г.Нерюнгри\"",14929,9278,-5651]
[37,"Сунтарская ДЮПБ",3100,3115,15]
[38,"Бердигестях ДБ",1482,1643,161]
[39,"Хоринская Ввил.",488,null,-488]
[40,"Б-ка ГО \"п. Жатай\"",2730,2735,5,29.5,27,-2.5]
[null,"Итого по МБ",{"$f":"SUM(C6:C45)","v":420129},{"$f":"SUM(D6:D45)","v":424678},{"$f":"SUM(E6:E45)","v":4549},43.6,43.9,{"$f":"G46-F46","v":0.29999999999999716}]
[null,"НБ РС(Я)",31367,35698,{"$f":"D47-C47","v":4331}]
[null,"ЦДЮ НБ РС(Я)*",16034,11707,{"$f":"D48-C48","v":-4327}]
[null,"РБС",2000,2002,{"$f":"D49-C49","v":2}]
[null,"ВСЕГО ",{"$f":"SUM(C46:C49)","v":469530},{"$f":"SUM(D46:D49)","v":474085},{"$f":"SUM(E46:E49)","v":4555},48.7,49,{"$f":"G50-F50","v":0.29999999999999716}]
[null,"Б-ки КДУ",21479,19071,{"$f":"D51-C51","v":-2408}]
[null,"Итого по РС(Я)",{"$f":"SUM(C50:C51)","v":491009},{"$f":"SUM(D50:D51)","v":493156},{"$f":"SUM(E50:E51)","v":2147},50.9,51,{"$f":"G52-F52","v":0.10000000000000142}]

{"sheet":"2.1","index":2,"n_rows":51,"n_cols":7,"rows_kept":51,"cut":false,"hidden":false,"merged":[[1,0,1,6],[3,3,3,5]]}
[null,null,null,null,null,null,"Таблица 2.1"]
["Количество пользователей "]
[]
["№","ЦБС","всего","из них",null,null,"Читаемость"]
[null,null,null,"до 14 лет","от 15-30","удал. польз"]
[1,"Абыйская",3203,911,519,589,30.7]
[2,"Аллаиховская",1465,519,251,166,35]
[3,"Амгинская",12007,2691,2472,2289,21.4]
[4,"Анабарская",1740,404,239,395,15.7]
[5,"Булунская",6795,1717,2267,876,21.9]
[6,"Верхневилюйская*",13748,4637,3023,2117,23.5]
[7,"Верхнеколымская",3985,1008,722,674,27.2]
[8,"Верхоянская",8411,1998,1529,723,22.5]
[9,"Вилюйская",12964,3708,2648,647,26.5]
[10,"Горная",6337,1349,1068,927,27]
[11,"Жиганская",3915,752,484,357,17.2]
[12,"Кобяйская",10546,3000,2195,1208,21.2]
[13,"Ленская",17055,6274,1953,5205,19.8]
[14,"Момская",3143,1103,740,300,15.6]
[15,"Намская",15947,4512,3096,2892,23.1]
[16,"Нижнеколымская",3842,1301,923,null,26]
[17,"Нюрбинская",19488,5276,3127,6498,19.399999999999999]
[18,"Оймяконская",6389,1728,1210,977,15.9]
[19,"Олекминская",15067,3896,3015,926,20.100000000000001]
[20,"Оленекская",3193,1012,367,454,11.4]
[21,"Среднеколымская",5416,1053,1367,1148,11.4]
[22,"Сунтарская",12516,3209,2341,1293,19.3]
[23,"Таттинская",10105,3866,1601,2386,22.8]
[24,"Томпонская",7376,2381,1290,1783,21.9]
[25,"Усть-Алданская",20002,5088,3540,6481,21]
[26,"Усть-Майская",5382,1618,1063,659,28]
[27,"Усть-Янская",4106,1319,1239,368,41.7]
[28,"Хангаласская",28597,5159,2619,14351,14.6]
[29,"Чурапчинская",15770,5383,2604,1588,22.1]
[30,"Мирнинская",23850,9301,3691,847,22.7]
[31,"Нерюнгринская",13208,4482,2891,1445,22.7]
[32,"Эвено-Бытантайская",1452,442,148,365,26.9]
[33,"Якутская*",69665,27816,14468,5329,20.100000000000001]
[34,"Алданский",15093,4761,2093,1655,19.5]
[35,"М.-Кангаласский",6129,1537,1259,1002,22.2]
[36,"ГБ ГП \"г.Нерюнгри \"",9278,3553,1608,1778,16.8]
[37,"Сунтарская ДЮПБ",3115,2500,537,null,16.100000000000001]
[38," Бердигестях ДБ",1643,1210,51,382,28.4]
[39,"Б-ка ГО \"п. Жатай\"",2735,1130,300,null,20.5]
[null,"Итого по МБ",{"$f":"SUM(C6:C44)","v":424678},{"$f":"SUM(D6:D44)","v":133604},{"$f":"SUM(E6:E44)","v":76558},{"$f":"SUM(F6:F44)","v":71080},21]
[null,"НБ РС(Я)",35698,null,16088,10505,32.700000000000003]
[null,"ЦДЮ НБ РС(Я)",11707,8009,866,2216,16.5]
[null,"РБС",2002,245,97,137,41.7]
[null,"ВСЕГО ",{"$f":"SUM(C45:C48)","v":474085},{"$f":"SUM(D45:D48)","v":141858},{"$f":"SUM(E45:E48)","v":93609},{"$f":"SUM(F45:F48)","v":83938},21.8]
[null,"КДУ",19071,6758,2334,2557,19.7]
[null,"Итого ПО РС(Я)",{"$f":"SUM(C49:C50)","v":493156},{"$f":"SUM(D49:D50)","v":148616},{"$f":"SUM(E49:E50)","v":95943},{"$f":"SUM(F49:F50)","v":86495},21.7]

{"sheet":"т.2.2","index":3,"n_rows":46,"n_cols":6,"rows_kept":46,"cut":false,"hidden":false,"merged":[[2,3,3,5]]}
[null,null,null,null,"Таблица 2.2 "]
[null,"Количество пользователей в сельской местности"]
[null,null,"всего","из них"]
["№","ЦБС","из общего"]
[null,null,"числа"]
[null,null,"в с/местн.","до 14 лет","от 15-24","удал. польз."]
[1,"Абыйская",1357,367,210,153]
[2,"Аллаиховская",305,98,46,17]
[3,"Амгинская",12007,2691,2472,2289]
[4,"Анабарская",1740,404,239,395]
[5,"Булунская",2232,605,621,277]
[6,"Верхневилюйская*",13748,4637,3023,2117]
[7,"Верхнеколымская",1292,326,134,223]
[8,"Верхоянская",3290,935,688,236]
[9,"Вилюйская",6187,1764,1193,355]
[10,"Горная",6337,1349,1068,927]
[11,"Жиганская",3915,752,484,357]
[12,"Кобяйская",5953,1696,860,672]
[13,"Ленская",2630,1053,343,291]
[14,"Момская",3143,1103,740,300]
[15,"Намская",15947,4512,3096,2892]
[16,"Нижнеколымская",909,292,279]
[17,"Нюрбинская",11451,3258,1812,3709]
[18,"Оймяконская",2221,582,457,311]
[19,"Олекминская",8457,2164,1355,872]
[20,"Оленекская",3193,1012,367,454]
[21,"Среднеколымская",2625,502,716,94]
[22,"Сунтарская",12516,3209,2341,1293]
[23,"Таттинская",10105,3866,1601,2386]
[24,"Томпонская",3462,1049,634,814]
[25,"Усть-Алданская",20002,5088,3540,6481]
[26,"Усть-Майская",1254,452,183,2]
[27,"Усть-Янская",2139,694,651,174]
[28,"Хангаласская",10776,2338,1515,2808]
[29,"Чурапчинская",15770,5383,2604,1588]
[30,"Мирнинская",802,309,154,58]
[31,"Нерюнгринская",864,236,118,133]
[32,"Эвено-Бытантайская",1452,442,148,365]
[33,"Якутская*",7339,3044,1354,32]
[34,"Алданский",232,56,34,17]
[35,"М.-Кангаласский",6129,1537,1259,1002]
[36,"Сунтарская ДЮПБ",3115,2500,537]
[37,"Бердигестях ДБ",1643,1210,51,382]
[null,"Итого по МБ",{"$f":"SUM(C7:C43)","v":206539},{"$f":"SUM(D7:D43)","v":61515},{"$f":"SUM(E7:E43)","v":36927},{"$f":"SUM(F7:F43)","v":34476}]
[null,"КДУ",15280,5069,1808,2290]
[null,"Итого по РС(Я)",{"$f":"SUM(C44:C45)","v":221819},{"$f":"SUM(D44:D45)","v":66584},{"$f":"SUM(E44:E45)","v":38735},{"$f":"SUM(F44:F45)","v":36766}]

{"sheet":"т.3","index":4,"n_rows":51,"n_cols":8,"rows_kept":51,"cut":false,"hidden":false,"merged":[[1,0,1,7],[2,2,2,4],[2,5,2,7]]}
[null,null,null,null,null,null,"Таблица 3"]
["Число посещений. Посещаемость"]
["№","ЦБС","Число посещений",null,null,"Посещаемость"]
[null,null,2018,2019,"\"+  -\"",2018,2019,"\"+  -\""]
[1,"Абыйская",36484,37674,{"$f":"D5-C5","v":1190},10.4,{"$f":"т.3!D5/т.2!D6","v":11.762098033093974},{"$f":"G5 - F5","v":1.3620980330939734}]
[2,"Аллаиховская",10898,11961,{"$f":"D6-C6","v":1063},9.1,{"$f":"т.3!D6/т.2!D7","v":8.1645051194539242},-0.93549488054607544]
[3,"Амгинская",103006,105425,2419,8.6,{"$f":"т.3!D7/т.2!D8","v":8.7802948280169897},0.18029482801699004]
[4,"Анабарская",10012,11550,1538,5.0999999999999996,{"$f":"т.3!D8/т.2!D9","v":6.6379310344827589},1.5379310344827593]
[5,"Булунская",61723,71374,9651,8.6,{"$f":"т.3!D9/т.2!D10","v":10.503899926416482},1.9038999264164822]
[6,"Верхневилюйская*",126087,133110,7023,9.3000000000000007,{"$f":"т.3!D10/т.2!D11","v":9.6821355833575797},0.38213558335757902]
[7,"Верхнеколымская",34133,35916,1783,9.1,{"$f":"т.3!D11/т.2!D12","v":9.0127979924717696},-8.7202007528230041E-2]
[8,"Верхоянская",74863,74364,-499,9.1999999999999993,{"$f":"т.3!D12/т.2!D13","v":8.8412792771370832},-0.35872072286291612]
[9,"Вилюйская",139079,146866,7787,10.6,{"$f":"т.3!D13/т.2!D14","v":11.328756556618327},0.72875655661832717]
[10,"Горная",77265,70776,-6489,11.5,{"$f":"т.3!D14/т.2!D15","v":11.168691810004734},-0.33130818999526568]
[11,"Жиганская",31542,32486,944,8.3000000000000007,{"$f":"т.3!D15/т.2!D16","v":8.2978288633461048},-2.1711366538958998E-3]
[12,"Кобяйская",125868,126434,566,11.9,{"$f":"т.3!D16/т.2!D17","v":11.988810923572919},8.8810923572918199E-2]
[13,"Ленская",134849,147819,12970,7.7,{"$f":"т.3!D17/т.2!D18","v":8.6671943711521546},0.96719437115215445]
[14,"Момская",29695,29262,-433,9.4,{"$f":"т.3!D18/т.2!D19","v":9.3102131721285399},-8.9786827871460417E-2]
[15,"Намская",140418,153267,12849,9.3000000000000007,{"$f":"т.3!D19/т.2!D20","v":9.6110240170564989},0.31102401705649818]
[16,"Нижнеколымская",36020,39741,3721,9.6999999999999993,{"$f":"т.3!D20/т.2!D21","v":10.343831337844872},0.64383133784487256]
[17,"Нюрбинская*",132963,148548,15585,6.9,{"$f":"т.3!D21/т.2!D22","v":7.6225369458128078},0.72253694581280747]
[18,"Оймяконская",54965,55569,604,8.5,{"$f":"т.3!D22/т.2!D23","v":8.6976052590389727},0.19760525903897275]
[19,"Олекминская",148513,156599,8086,9.6999999999999993,{"$f":"т.3!D23/т.2!D24","v":10.393508993163868},0.69350899316386894]
[20,"Оленекская",21496,23086,1590,8.1999999999999993,{"$f":"т.3!D24/т.2!D25","v":7.2301910429063581},-0.96980895709364123]
[21,"Среднеколымская",38381,41325,2944,7,{"$f":"т.3!D25/т.2!D26","v":7.6301698670605616},0.63016986706056155]
[22,"Сунтарская",124892,121204,-3688,9.9,{"$f":"т.3!D26/т.2!D27","v":9.6839245765420259},-0.21607542345797448]
[23,"Таттинская",100641,96573,-4068,9.3000000000000007,{"$f":"т.3!D27/т.2!D28","v":9.5569520039584361},0.25695200395843543]
[24,"Томпонская",71748,67998,-3750,10,{"$f":"т.3!D28/т.2!D29","v":9.2188177874186543},-0.78118221258134568]
[25,"Усть-Алданская",205716,205316,-400,10.3,{"$f":"т.3!D29/т.2!D30","v":10.264773522647735},-3.5226477352265917E-2]
[26,"Усть-Майская",62697,70288,7591,12.3,{"$f":"т.3!D30/т.2!D31","v":13.05982905982906},0.75982905982905891]
[27,"Усть-Янская",48995,51261,2266,12.5,{"$f":"т.3!D31/т.2!D32","v":12.484413054067218},-1.5586945932781759E-2]
[28,"Хангаласская",179185,178738,-447,9.6,{"$f":"т.3!D32/т.2!D33","v":6.2502360387453226},-3.349763961254677]
[29,"Чурапчинская",133397,147693,14296,8.1999999999999993,{"$f":"т.3!D33/т.2!D34","v":9.3654407102092581},1.1654407102092588]
[30,"Мирнинская",174425,177904,3479,7.3,{"$f":"т.3!D34/т.2!D35","v":7.4592872117400422},0.15928721174004234]
[31,"Нерюнгринская",116693,116325,-368,8.8000000000000007,{"$f":"т.3!D35/т.2!D36","v":8.8071623258631124},7.1623258631117181E-3]
[32,"Эвено-Бытантай",16677,17452,775,11.6,{"$f":"т.3!D36/т.2!D37","v":12.019283746556473},0.4192837465564736]
[33,"Якутская*",482481,506017,23536,7.1,{"$f":"т.3!D37/т.2!D38","v":7.2635756836287948},0.16357568362879515]
[34,"Алданский",128731,132380,{"$f":"D38-C38","v":3649},8.1,{"$f":"т.3!D38/т.2!D39","v":8.7709534221162126},{"$f":"G38 - F38","v":0.67095342211621301}]
[35,"М.-Кангаласский",60011,61334,{"$f":"D39-C39","v":1323},9.8000000000000007,{"$f":"т.3!D39/т.2!D40","v":10.007178985152553},{"$f":"G39 - F39","v":0.20717898515255229}]
[36,"ГБ ГП \"г.Нерюнгри \"",94355,94252,-103,6.3,{"$f":"т.3!D40/т.2!D41","v":10.158654882517784},3.8586548825177838]
[37,"Сунтарская ДЮПБ",26366,27269,903,8.5,{"$f":"т.3!D41/т.2!D42","v":8.7540930979133229},0.25409309791332291]
[38,"Бердигестях ДБ*",15144,15164,20,10.199999999999999,{"$f":"т.3!D42/т.2!D43","v":9.2294583079732195},-0.97054169202677976]
[39,"Хоринская Ввил.",5680,null,-5680,11.6,null,-11.6]
[40,"Б-ка ГО \"п. Жатай\"",20420,20823,403,7.5,{"$f":"т.3!D44/т.2!D45","v":7.6135283363802557},0.11352833638025572]
[null,"Итого по МБ",{"$f":"SUM(C5:C44)","v":3636514},{"$f":"SUM(D5:D44)","v":3761143},124629,8.6999999999999993,{"$f":"т.3!D45/т.2!D46","v":8.8564583048804035},0.15645830488040424]
[null,"НБ РС(Я)",173169,223484,50315,5.5,{"$f":"т.3!D46/т.2!D47","v":6.2604067454759367},0.76040674547593667]
[null,"ЦДЮ НБ РС(Я)",95752,70662,-25090,6,{"$f":"т.3!D47/т.2!D48","v":6.0358759716408983},3.5875971640898285E-2]
[null,"РБС",7636,12291,4655,3.8,{"$f":"т.3!D48/т.2!D49","v":6.139360639360639},2.3393606393606392]
[null,"ВСЕГО ",{"$f":"SUM(C45:C48)","v":3913071},{"$f":"SUM(D45:D48)","v":4067580},{"$f":"SUM(E45:E48)","v":154509},8.3000000000000007,{"$f":"т.3!D49/т.2!D50","v":8.5798538236814075},{"$f":"G49-F49","v":0.27985382368140677}]
[null,"КДУ",174688,175512,{"$f":"D50-C50","v":824},8.1,{"$f":"т.3!D50/т.2!D51","v":9.2030832153531534},{"$f":"G50-F50","v":1.1030832153531538}]
[null,"Итого по РС(Я)",{"$f":"SUM(C49:C50)","v":4087759},{"$f":"SUM(D49:D50)","v":4243092},{"$f":"D51-C51","v":155333},8.3000000000000007,{"$f":"т.3!D51/т.2!D52","v":8.6039549351523661},{"$f":"G51-F51","v":0.30395493515236538}]

{"sheet":"т.4","index":5,"n_rows":51,"n_cols":6,"rows_kept":51,"cut":false,"hidden":false,"merged":[[1,0,1,5]]}
[null,null,null,null,null,"Таблица 4."]
["Движение библиотечного фонда ."]
[null,null,"Сост. на ","Поступило","Выбыло","Сост. на"]
["№","ЦБС","2019-01-01","(экз)","(экз.)","2020-01-01"]
[1,"Абыйская",84957,2063,4174,{"$f":"C5+D5-E5","v":82846}]
[2,"Аллаиховская",76416,1019,1148,{"$f":"C6+D6-E6","v":76287}]
[3,"Амгинская",190904,8685,8679,190910]
[4,"Анабарская",24534,560,1718,23376]
[5,"Булунская",144950,1532,1102,145380]
[6,"Верхневилюйская*",224167,16901,7002,234066]
[7,"Верхнеколымская",108027,4650,2397,110280]
[8,"Верхоянская",209455,9011,4278,214188]
[9,"Вилюйская",267125,6492,9924,263693]
[10,"Горная",104493,3607,9064,99036]
[11,"Жиганская",52222,2785,251,54756]
[12,"Кобяйская",194704,5851,6105,194450]
[13,"Ленская",196898,13615,10018,200495]
[14,"Момская",90485,1111,5220,86376]
[15,"Намская",220469,13891,17407,216953]
[16,"Нижнеколымская",98956,2233,1433,99756]
[17,"Нюрбинская",323639,5050,1440,327249]
[18,"Оймяконская",116343,1555,144,117754]
[19,"Олекминская",280039,11027,8475,282591]
[20,"Оленекская",77093,1506,579,78020]
[21,"Среднеколымская",120081,4864,2817,122128]
[22,"Сунтарская",193920,11004,4524,200400]
[23,"Таттинская",208430,8804,6440,210794]
[24,"Томпонская",179303,5791,7481,177613]
[25,"Усть-Алданская",404748,21876,12755,413869]
[26,"Усть-Майская",129739,4110,5632,128217]
[27,"Усть-Янская",168616,1122,50,169688]
[28,"Хангаласская",344682,12138,17179,339641]
[29,"Чурапчинская",267463,8552,5647,270368]
[30,"Мирнинская",250919,8989,16259,243649]
[31,"Нерюнгринская",139588,5092,3664,141016]
[32,"Эвено-Бытантайская",41786,588,32,42342]
[33,"Якутская*",445048,39545,32713,{"$f":"C37+D37-E37","v":451880}]
[34,"Алданский",129385,22586,22891,{"$f":"C38+D38-E38","v":129080}]
[35,"Мегино-Кангаласский",104388,1457,1651,{"$f":"C39+D39-E39","v":104194}]
[36,"ГБ ГП \"г.Нерюнгри \"",122424,4265,11373,115316]
[37,"Сунтарская ДЮПБ",49550,1166,360,50356]
[38,"Бердигестях ДБ",14008,1521,85,15444]
[39,"Хоринская  Ввил.",8127]
[40,"Б-ка ГО \"п. Жатай\"",20576,233,206,20603]
[null,"Итого по МБ",{"$f":"SUM(C5:C44)","v":6428657},{"$f":"SUM(D5:D44)","v":276847},{"$f":"SUM(E5:E44)","v":252317},{"$f":"SUM(F5:F44)","v":6445060}]
[null,"НБ РС(Я)",1621027,21121,8637,{"$f":"C46+D46-E46","v":1633511}]
[null,"ЦДЮ НБ РС(Я)",222069,6249,61202,{"$f":"C47+D47-E47","v":167116}]
[null,"РБС",134596,6310,927,{"$f":"C48+D48-E48","v":139979}]
[null,"ВСЕГО ",{"$f":"SUM(C45:C48)","v":8406349},{"$f":"SUM(D45:D48)","v":310527},{"$f":"SUM(E45:E48)","v":323083},{"$f":"SUM(F45:F48)","v":8385666}]
[null,"КДУ",432497,10087,10678,{"$f":"C50+D50-E50","v":431906}]
[null,"Итого по РС(Я)",{"$f":"SUM(C49:C50)","v":8838846},{"$f":"SUM(D49:D50)","v":320614},{"$f":"SUM(E49:E50)","v":333761},{"$f":"SUM(F49:F50)","v":8817572}]

{"sheet":"т.4.1","index":6,"n_rows":51,"n_cols":7,"rows_kept":51,"cut":false,"hidden":false,"merged":[[1,0,1,6]]}
[null,null,null,null,null,null,"Таблица 4.1 "]
["Библиотечный фонд "]
[]
["№","ЦБС",2018,2019,"\"+  -\"","в городе","в сельск.местн."]
[1,"Абыйская",84957,82846,{"$f":"D5-C5","v":-2111},{"$f":" D5-G5","v":37315},45531]
[2,"Аллаиховская",76416,76287,{"$f":"D6-C6","v":-129},{"$f":" D6-G6","v":47526},28761]
[3,"Амгинская",190904,190910,6,{"$f":" D7-G7","v":0},190910]
[4,"Анабарская",24534,23376,-1158,0,23376]
[5,"Булунская",144950,145380,430,67257,78123]
[6,"Верхневилюйская*",224167,234066,9899,0,234066]
[7,"Верхнеколымская",108027,110280,2253,64346,45934]
[8,"Верхоянская",209455,214188,4733,93248,120940]
[9,"Вилюйская",267125,263693,-3432,86485,177208]
[10,"Горная",104493,99036,-5457,0,99036]
[11,"Жиганская",52222,54756,2534,0,54756]
[12,"Кобяйская",194704,194450,-254,48030,146420]
[13,"Ленская",196898,200495,3597,115657,84838]
[14,"Момская",90485,86376,-4109,0,86376]
[15,"Намская",220469,216953,-3516,0,216953]
[16,"Нижнеколымская",98956,99756,800,69225,30531]
[17,"Нюрбинская",323639,327249,3610,87791,239458]
[18,"Оймяконская",116343,117754,1411,43954,73800]
[19,"Олекминская",280039,282591,2552,67702,214889]
[20,"Оленекская",77093,78020,927,0,78020]
[21,"Среднеколымская",120081,122128,2047,51532,70596]
[22,"Сунтарская",193920,200400,6480,0,200400]
[23,"Таттинская",208430,210794,2364,0,210794]
[24,"Томпонская",179303,177613,-1690,73899,103714]
[25,"Усть-Алданская",404748,413869,9121,0,413869]
[26,"Усть-Майская",129739,128217,-1522,83937,44280]
[27,"Усть-Янская",168616,169688,1072,83698,85990]
[28,"Хангаласская",344682,339641,-5041,123420,216221]
[29,"Чурапчинская",267463,270368,2905,0,270368]
[30,"Мирнинская",250919,243649,-7270,200821,42828]
[31,"Нерюнгринская",139588,141016,1428,118983,22033]
[32,"Эвено-Бытантайская",41786,42342,556,0,42342]
[33,"Якутская*",445048,451880,{"$f":"D37-C37","v":6832},{"$f":" D37-G37","v":392125},59755]
[34,"Алданский",129385,129080,{"$f":"D38-C38","v":-305},{"$f":" D38-G38","v":116851},12229]
[35,"Мегино-Кангаласский",104388,104194,{"$f":"D39-C39","v":-194},0,104194]
[36,"ГБ ГП \"г.Нерюнгри \"",122424,115316,-7108,115316,0]
[37,"Сунтарская ДЮПБ",49550,50356,806,0,50356]
[38,"Бердигестях ДБ",14008,15444,null,null,15444]
[39,"Хоринская  Ввил.",8127,null,-8127,0]
[40,"Б-ка ГО \"п. Жатай\"",20576,20603,{"$f":"D44-C44","v":27},20576,0]
[null,"Итого по МБ",{"$f":"SUM(C5:C44)","v":6428657},{"$f":"SUM(D5:D44)","v":6445060},16403,{"$f":"SUM(F5:F44)","v":2209694},{"$f":"SUM(G5:G44)","v":4235339}]
[null,"НБ РС(Я)",1621027,1633511,12484,1633511,0]
[null,"ЦДЮ НБ РС(Я)",222069,167116,-54953,167116,0]
[null,"РБС",134596,139979,5383,139979,0]
[null,"ВСЕГО ",{"$f":"SUM(C45:C48)","v":8406349},{"$f":"SUM(D45:D48)","v":8385666},-20683,{"$f":"SUM(F45:F48)","v":4150300},{"$f":"SUM(G45:G48)","v":4235339}]
[null,"КДУ",432497,431906,{"$f":"D50-C50","v":-591},{"$f":"D50-G50","v":41761},390145]
[null,"Итого по РС(Я)",{"$f":"SUM(C49:C50)","v":8838846},{"$f":"SUM(D49:D50)","v":8817572},{"$f":"SUM(E49:E50)","v":-21274},{"$f":"SUM(F49:F50)","v":4192061},{"$f":"SUM(G49:G50)","v":4625484}]

{"sheet":"т.4.2","index":7,"n_rows":50,"n_cols":12,"rows_kept":50,"cut":false,"hidden":false,"merged":[[1,0,1,10],[2,4,2,6],[2,8,3,8]]}
[null,null,null,null,null,null,null,null,null,"Таблица 4.2"]
["Поступление в библиотечный фонд (экз.)"]
[null,null,null,null,"в том числе",null,null,null,"спец.","на яз.","на"]
["№","ЦБС",2018,2019,"печ.изд.","из них","эл.док.","док. на",null,"нар.РФ","иностр.","\"+  -\""]
[null,null,null,null,"неопуб.","книг","съемн","др.вид.","док.","кр.рус.яз.","яз."]
[1,"Абыйская",1797,2063,2063,1093,null,null,null,541,null,{"$f":"D6-C6","v":266}]
[2,"Аллаиховская",1719,1019,1019,799,null,null,null,340,null,-700]
[3,"Амгинская",11384,8685,8604,3233,81,null,12,2220,null,-2699]
[4,"Анабарская",1091,560,560,501,null,null,null,214,null,-531]
[5,"Булунская",1960,1532,1532,1268,null,null,null,343,1,-428]
[6,"Верхневилюйская*",15744,16901,16892,10957,4,5,null,6705,1,1157]
[7,"Верхнеколымская",3345,4650,4650,1884,null,null,12,204,null,1305]
[8,"Верхоянская",10536,9011,9004,4462,7,null,null,2728,3,-1525]
[9,"Вилюйская",6081,6492,6427,5900,65,null,null,2810,null,411]
[10,"Горная",2706,3607,3607,2885,null,null,null,1316,null,901]
[11,"Жиганская",2601,2785,2785,1564,null,null,null,null,null,184]
[12,"Кобяйская",6251,5851,5851,2534,null,null,null,1940,null,-400]
[13,"Ленская",17674,13615,13615,6883,null,null,null,580,null,-4059]
[14,"Момская",2083,1111,1111,669,null,null,null,512,null,-972]
[15,"Намская",12470,13891,13870,7657,21,null,null,2779,null,1421]
[16,"Нижнеколымская",3539,2233,2233,859,null,null,null,515,null,-1306]
[17,"Нюрбинская",12455,5050,4969,4082,81,null,null,2167,null,-7405]
[18,"Оймяконская",2537,1555,1555,null,null,null,null,646,null,-982]
[19,"Олекминская",16085,11027,11027,8982,null,null,null,1774,3,-5058]
[20,"Оленекская",1252,1506,1506,1506,null,null,null,221,null,254]
[21,"Среднеколымская",5408,4864,4864,2377,null,null,null,1364,null,-544]
[22,"Сунтарская",11256,11004,10994,8910,10,null,null,2743,2,-252]
[23,"Таттинская",10463,8804,8751,4973,53,null,null,3254,2,-1659]
[24,"Томпонская",5210,5791,5787,2844,4,null,null,1900,null,581]
[25,"Усть-Алданская",44771,21876,21852,9451,24,null,null,6315,4,-22895]
[26,"Усть-Майская",5482,4110,4110,1872,null,null,null,214,null,-1372]
[27,"Усть-Янская",2311,1122,1122,603,null,null,null,null,null,-1189]
[28,"Хангаласская",11487,12138,12138,7108,null,null,null,3643,11,651]
[29,"Чурапчинская",8130,8552,8552,4229,null,null,null,3248,null,422]
[30,"Мирнинская",11700,8989,8989,2998,null,null,null,808,2,-2711]
[31,"Нерюнгринская",3462,5092,5046,3517,46,null,null,531,null,1630]
[32,"Эвено-Бытантайская",617,588,588,400,null,null,null,154,null,-29]
[33,"Якутская*",24839,39545,39499,23661,46,null,null,4907,26,{"$f":"D38-C38","v":14706}]
[34,"Алданский",15798,22586,21941,15263,614,31,null,322,11,{"$f":"D39-C39","v":6788}]
[35,"Мегино-Кангаласский",2854,1457,1457,1218,null,null,null,539,null,{"$f":"D40-C40","v":-1397}]
[36,"ГБ ГП \"г.Нерюнгри \"",4276,4265,4264,2686,1,null,null,174,2,-11]
[37,"Сунтарская ДЮПБ",1259,1166,1166,1094,null,null,null,null,null,-93]
[38,"Бердигестях ДБ",505,1521,1519,855,2,null,null,347,null,1016]
[39,"Хоринская  Ввил.",78,null,null,null,null,null,null,null,null,-78]
[40,"Б-ка ГО \"п. Жатай\"",327,233,233,233,null,null,null,49,null,{"$f":"D45-C45","v":-94}]
[null,"Итого по МБ",{"$f":"SUM(C6:C45)","v":303543},276847,275752,162010,1059,36,24,59067,68,-26696]
[null,"НБ РС(Я)",21186,21121,21117,20491,4,null,null,3433,657,-65]
[null,"ЦДЮ НБ РС(Я)",6233,6249,6247,2930,2,null,null,null,null,16]
[null,"РБС",7228,6310,1432,853,2444,2434,5852,577,null,-918]
[null,"ВСЕГО ",{"$f":"SUM(C46:C49)","v":338190},{"$f":"SUM(D46:D49)","v":310527},304548,{"$f":"SUM(F46:F49)","v":186284},3509,{"$f":"SUM(H46:H49)","v":2470},{"$f":"SUM(I46:I49)","v":5876},63077,{"$f":"SUM(K44:K49)","v":725},-27663]

{"sheet":"т.5","index":8,"n_rows":46,"n_cols":6,"rows_kept":46,"cut":false,"hidden":false,"merged":[[1,0,1,5]]}
[null,null,null,null,null,"Таблица 5"]
["Относительные показатели библиотек республики"]
[]
["№","ЦБС","Документообесп.\n жителей","Документообесп.\n польз.","Обращаемость\nбибл.фонда","Обновляемость\nбибл.фонда"]
[1,"Абыйская",{"$f":"(т.4!F5/т.1!C9)/1000","v":20.711500000000001},{"$f":"'т.4.1'!D5/т.2!D6","v":25.86512644395879},{"$f":"т.6!D5/'т.4.1'!D5","v":1.1894358206793327},{"$f":"'[1]т.4.2'!D6/'т.4.1'!D5*100","v":2.1690848079569323}]
[2,"Аллаиховская",{"$f":"(т.4!F6/т.1!C10)/1000","v":28.254444444444442},{"$f":"'т.4.1'!D6/т.2!D7","v":52.073037542662114},{"$f":"т.6!D6/'т.4.1'!D6","v":0.59748056680692652},{"$f":"'т.4.2'!D7/'т.4.1'!D6*100","v":1.3357452777013121}]
[3,"Амгинская",{"$f":"(т.4!F7/т.1!C11)/1000","v":11.431736526946107},{"$f":"'т.4.1'!D7/т.2!D8","v":15.899891729824269},{"$f":"т.6!D7/'т.4.1'!D7","v":1.3457702582368656},{"$f":"'т.4.2'!D8/'т.4.1'!D7*100","v":4.5492640511235658}]
[4,"Анабарская",{"$f":"(т.4!F8/т.1!C12)/1000","v":6.4933333333333332},{"$f":"'т.4.1'!D8/т.2!D9","v":13.434482758620689},{"$f":"т.6!D8/'т.4.1'!D8","v":1.1728696098562628},{"$f":"'т.4.2'!D9/'т.4.1'!D8*100","v":2.3956194387405887}]
[5,"Булунская",{"$f":"(т.4!F9/т.1!C13)/1000","v":17.515662650602408},{"$f":"'т.4.1'!D9/т.2!D10","v":21.395143487858718},{"$f":"т.6!D9/'т.4.1'!D9","v":1.0257944696657038},{"$f":"'т.4.2'!D10/'т.4.1'!D9*100","v":1.0537900674095473}]
[6,"Верхневилюйская*",{"$f":"(т.4!F10/т.1!C14)/1000","v":11.146000000000001},{"$f":"'т.4.1'!D10/т.2!D11","v":17.025458248472503},{"$f":"т.6!D10/'т.4.1'!D10","v":1.3783462784001095},{"$f":"'т.4.2'!D11/'т.4.1'!D10*100","v":7.2206129894986883}]
[7,"Верхнеколымская",{"$f":"(т.4!F11/т.1!C15)/1000","v":27.57},{"$f":"'т.4.1'!D11/т.2!D12","v":27.673776662484315},{"$f":"т.6!D11/'т.4.1'!D11","v":0.98268951759158507},{"$f":"'т.4.2'!D12/'т.4.1'!D11*100","v":4.2165397170837862}]
[8,"Верхоянская",{"$f":"(т.4!F12/т.1!C16)/1000","v":19.296216216216216},{"$f":"'т.4.1'!D12/т.2!D13","v":25.465224111282843},{"$f":"т.6!D12/'т.4.1'!D12","v":0.88207089099295943},{"$f":"'т.4.2'!D13/'т.4.1'!D12*100","v":4.2070517489308461}]
[9,"Вилюйская",{"$f":"(т.4!F13/т.1!C17)/1000","v":10.54772},{"$f":"'т.4.1'!D13/т.2!D14","v":20.340404196235731},{"$f":"т.6!D13/'т.4.1'!D13","v":1.3034854925993484},{"$f":"'т.4.2'!D14/'т.4.1'!D13*100","v":2.4619538630149451}]
[10,"Горная",{"$f":"(т.4!F14/т.1!C18)/1000","v":8.2530000000000001},{"$f":"'т.4.1'!D14/т.2!D15","v":15.628215243806217},{"$f":"т.6!D14/'т.4.1'!D14","v":1.726453006987358},{"$f":"'т.4.2'!D15/'т.4.1'!D14*100","v":3.6421099398198633}]
[11,"Жиганская",{"$f":"(т.4!F15/т.1!C19)/1000","v":13.037142857142857},{"$f":"'т.4.1'!D15/т.2!D16","v":13.986206896551725},{"$f":"т.6!D15/'т.4.1'!D15","v":1.230111768573307},{"$f":"'т.4.2'!D16/'т.4.1'!D15*100","v":5.0862005990211117}]
[12,"Кобяйская",{"$f":"(т.4!F16/т.1!C20)/1000","v":15.808943089430894},{"$f":"'т.4.1'!D16/т.2!D17","v":18.438270434287883},{"$f":"т.6!D16/'т.4.1'!D16","v":1.1512728207765492},{"$f":"'т.4.2'!D17/'т.4.1'!D16*100","v":3.0089997428644892}]
[13,"Ленская",{"$f":"(т.4!F17/т.1!C21)/1000","v":5.4930136986301372},{"$f":"'т.4.1'!D17/т.2!D18","v":11.755790090882439},{"$f":"т.6!D17/'т.4.1'!D17","v":1.683293847726876},{"$f":"'т.4.2'!D18/'т.4.1'!D17*100","v":6.7906930347390206}]
[14,"Момская",{"$f":"(т.4!F18/т.1!C22)/1000","v":21.594000000000001},{"$f":"'т.4.1'!D18/т.2!D19","v":27.482023544384347},{"$f":"т.6!D18/'т.4.1'!D18","v":0.56867648420857642},{"$f":"'т.4.2'!D19/'т.4.1'!D18*100","v":1.2862369176623136}]
[15,"Намская",{"$f":"(т.4!F19/т.1!C23)/1000","v":8.783522267206477},{"$f":"'т.4.1'!D19/т.2!D20","v":13.604627829685834},{"$f":"т.6!D19/'т.4.1'!D19","v":1.6954778223854936},{"$f":"'т.4.2'!D20/'т.4.1'!D19*100","v":6.4027692633888451}]
[16,"Нижнеколымская",{"$f":"(т.4!F20/т.1!C24)/1000","v":23.199069767441863},{"$f":"'т.4.1'!D20/т.2!D21","v":25.964601769911503},{"$f":"т.6!D20/'т.4.1'!D20","v":1.0018244516620554},{"$f":"'т.4.2'!D21/'т.4.1'!D20*100","v":2.2384618469064517}]
[17,"Нюрбинская",{"$f":"(т.4!F21/т.1!C25)/1000","v":13.807974683544304},{"$f":"'т.4.1'!D21/т.2!D22","v":16.792333743842363},{"$f":"т.6!D21/'т.4.1'!D21","v":1.1555848910157098},{"$f":"'т.4.2'!D22/'т.4.1'!D21*100","v":1.5431674351946072}]
[18,"Оймяконская",{"$f":"(т.4!F22/т.1!C26)/1000","v":14.360243902439025},{"$f":"'т.4.1'!D22/т.2!D23","v":18.430740334950695},{"$f":"т.6!D22/'т.4.1'!D22","v":0.86534640012228881},{"$f":"'т.4.2'!D23/'т.4.1'!D22*100","v":1.3205496203950609}]
[19,"Олекминская",{"$f":"(т.4!F23/т.1!C27)/1000","v":11.440931174089069},{"$f":"'т.4.1'!D23/т.2!D24","v":18.755624875555849},{"$f":"т.6!D23/'т.4.1'!D23","v":1.0693864985084451},{"$f":"'т.4.2'!D24/'т.4.1'!D23*100","v":3.9021058703214186}]
[20,"Оленекская",{"$f":"(т.4!F24/т.1!C28)/1000","v":18.576190476190476},{"$f":"'т.4.1'!D24/т.2!D25","v":24.434700908236767},{"$f":"т.6!D24/'т.4.1'!D24","v":0.46849525762624966},{"$f":"'т.4.2'!D25/'т.4.1'!D24*100","v":1.9302742886439375}]
[21,"Среднеколымская",{"$f":"(т.4!F25/т.1!C29)/1000","v":16.503783783783785},{"$f":"'т.4.1'!D25/т.2!D26","v":22.549483013293944},{"$f":"т.6!D25/'т.4.1'!D25","v":0.50558430499148432},{"$f":"'т.4.2'!D26/'т.4.1'!D25*100","v":3.982706668413468}]
[22,"Сунтарская",{"$f":"(т.4!F26/т.1!C30)/1000","v":8.5641025641025639},{"$f":"'т.4.1'!D26/т.2!D27","v":16.01150527325024},{"$f":"т.6!D26/'т.4.1'!D26","v":1.2068413173652695},{"$f":"'т.4.2'!D27/'т.4.1'!D26*100","v":5.4910179640718564}]
[23,"Таттинская",{"$f":"(т.4!F27/т.1!C31)/1000","v":13.011975308641976},{"$f":"'т.4.1'!D27/т.2!D28","v":20.860366155368631},{"$f":"т.6!D27/'т.4.1'!D27","v":1.0964401263793087},{"$f":"'т.4.2'!D28/'т.4.1'!D27*100","v":4.1765894664933541}]
[24,"Томпонская",{"$f":"(т.4!F28/т.1!C32)/1000","v":14.209040000000002},{"$f":"'т.4.1'!D28/т.2!D29","v":24.079853579175705},{"$f":"т.6!D28/'т.4.1'!D28","v":0.90913390348679435},{"$f":"'т.4.2'!D29/'т.4.1'!D28*100","v":3.2604595384346866}]
[25,"Усть-Алданская",{"$f":"(т.4!F29/т.1!C33)/1000","v":20.090728155339807},{"$f":"'т.4.1'!D29/т.2!D30","v":20.69138086191381},{"$f":"т.6!D29/'т.4.1'!D29","v":1.0103076094126402},{"$f":"'т.4.2'!D30/'т.4.1'!D29*100","v":5.285730508929154}]
[26,"Усть-Майская",{"$f":"(т.4!F30/т.1!C34)/1000","v":17.326621621621619},{"$f":"'т.4.1'!D30/т.2!D31","v":23.82329988851728},{"$f":"т.6!D30/'т.4.1'!D30","v":1.1778547306519416},{"$f":"'т.4.2'!D31/'т.4.1'!D30*100","v":3.2055031704064199}]
[27,"Усть-Янская",{"$f":"(т.4!F31/т.1!C35)/1000","v":24.241142857142858},{"$f":"'т.4.1'!D31/т.2!D32","v":41.326838772528006},{"$f":"т.6!D31/'т.4.1'!D31","v":1.0085627740323417},{"$f":"'т.4.2'!D32/'т.4.1'!D31*100","v":0.66121352128612509}]
[28,"Хангаласская",{"$f":"(т.4!F32/т.1!C36)/1000","v":10.354908536585366},{"$f":"'т.4.1'!D32/т.2!D33","v":11.876805259292933},{"$f":"т.6!D32/'т.4.1'!D32","v":1.2282733827776977},{"$f":"'т.4.2'!D33/'т.4.1'!D32*100","v":3.5737734843555398}]
[29,"Чурапчинская",{"$f":"(т.4!F33/т.1!C37)/1000","v":12.874666666666666},{"$f":"'т.4.1'!D33/т.2!D34","v":17.14445149017121},{"$f":"т.6!D33/'т.4.1'!D33","v":1.2908702213279679},{"$f":"'т.4.2'!D34/'т.4.1'!D33*100","v":3.1630962244052547}]
[30,"Мирнинская",{"$f":"(т.4!F34/т.1!C38)/1000","v":3.3606758620689656},{"$f":"'т.4.1'!D34/т.2!D35","v":10.215890985324947},{"$f":"т.6!D34/'т.4.1'!D34","v":2.2259890251960814},{"$f":"'т.4.2'!D35/'т.4.1'!D34*100","v":3.6893235761279541}]
[31,"Нерюнгринская",{"$f":"(т.4!F35/т.1!C39)/1000","v":1.9211989100817437},{"$f":"'т.4.1'!D35/т.2!D36","v":10.676559660811629},{"$f":"т.6!D35/'т.4.1'!D35","v":2.1288648096669882},{"$f":"'т.4.2'!D36/'т.4.1'!D35*100","v":3.6109377659272703}]
[32,"Якутская*",{"$f":"(т.4!F36/т.1!C40)/1000","v":15.122142857142858},{"$f":"'т.4.1'!D36/т.2!D37","v":29.16115702479339},{"$f":"т.6!D36/'т.4.1'!D36","v":0.92168532426432381},{"$f":"'т.4.2'!D37/'т.4.1'!D36*100","v":1.3886920787870201}]
[33,"Эвено-Бытантайская",{"$f":"(т.4!F37/т.1!C41)/1000","v":1.3468852459016394},{"$f":"'т.4.1'!D37/т.2!D38","v":6.4864709682049808},{"$f":"т.6!D37/'т.4.1'!D37","v":3.1056607949013011},{"$f":"'т.4.2'!D37/'т.4.1'!D36*100","v":1.3886920787870201}]
[34,"Алданский",{"$f":"(т.4!F38/т.1!C42)/1000","v":3.3614583333333337},{"$f":"'т.4.1'!D38/т.2!D39","v":8.552309017425296},{"$f":"т.6!D38/'т.4.1'!D38","v":2.2783854973659747},{"$f":"'т.4.2'!D39/'т.4.1'!D38*100","v":17.497675859931825}]
[35,"М.-Кангаласская",{"$f":"(т.4!F39/т.1!C43)/1000","v":3.3829220779220779},{"$f":"'т.4.1'!D39/т.2!D40","v":17.000163158753466},{"$f":"т.6!D39/'т.4.1'!D39","v":1.3029253123980267},{"$f":"'т.4.2'!D40/'т.4.1'!D39*100","v":1.3983530721538668}]
[36,"ГБ ГП \"г.Нерюнгри\"",null,{"$f":"'т.4.1'!D40/т.2!D41","v":12.428971761155422},{"$f":"т.6!D40/'т.4.1'!D40","v":1.3507926046689098},{"$f":"'т.4.2'!D41/'т.4.1'!D40*100","v":3.6985327274619304}]
[37,"Сунтарская ДЮПБ",null,{"$f":"'т.4.1'!D41/т.2!D42","v":16.165650080256821},{"$f":"т.6!D41/'т.4.1'!D41","v":0.9952140757804433},{"$f":"'т.4.2'!D42/'т.4.1'!D41*100","v":2.3155135435697831}]
[38,"Бердигестях ДБ",null,{"$f":"'т.4.1'!D42/т.2!D43","v":9.3998782714546554},{"$f":"т.6!D42/'т.4.1'!D42","v":3.0229215229215227},{"$f":"'т.4.2'!D43/'т.4.1'!D42*100","v":9.8484848484848477}]
[39,"Б-ка ГО \"Жатай\"",{"$f":"(т.4!F44/т.1!C48)/1000","v":2.0399009900990102},{"$f":"'т.4.1'!D44/т.2!D45","v":7.5330895795246802},{"$f":"т.6!D44/'т.4.1'!D44","v":2.7161093044702227},{"$f":"'т.4.2'!D45/'т.4.1'!D44*100","v":1.1309032665145851}]
[null,"Итого по МБ",6.7,{"$f":"'т.4.1'!D45/т.2!D46","v":15.176345372258512},{"$f":"т.6!D45/'т.4.1'!D45","v":1.3813160777401607},{"$f":"'т.4.2'!D46*100/'т.4.1'!D45","v":4.2954914306461074}]
[null,"НБ РС(Я)",5.0999999999999996,{"$f":"'т.4.1'!D46/т.2!D47","v":45.759174183427646},{"$f":"т.6!D46/'т.4.1'!D46","v":0.71485224158270133},{"$f":"'т.4.2'!D47*100/'т.4.1'!D46","v":1.2929818042241528}]
[null,"ВСЕГО ",8.6999999999999993,17.899999999999999,{"$f":"т.6!D49/'т.4.1'!D49","v":1.233886968548473},{"$f":"'т.4.2'!D50*100/'т.4.1'!D49","v":3.7030690227824481}]

{"sheet":"т.6","index":9,"n_rows":51,"n_cols":7,"rows_kept":51,"cut":false,"hidden":false,"merged":[[1,0,1,6]]}
[null,null,null,null,null,"Таблица 6"]
["Выдача документов из фондов библиотек"]
[]
["№","ЦБС",2018,2019,"\"+  -\"","в городе","на селе."]
[1,"Абыйская",102350,98540,{"$f":" D5 - C5","v":-3810},{"$f":"D5 - G5","v":58134},40406]
[2,"Аллаиховская",41741,45580,3839,37184,8396]
[3,"Амгинская",243262,256921,13659,{"$f":"D7-G7","v":0},256921]
[4,"Анабарская",31941,27417,-4524,{"$f":"D8-G8","v":0},27417]
[5,"Булунская",150847,149130,-1717,99235,49895]
[6,"Верхневилюйская*",323153,322624,-529,{"$f":"D10-G10","v":0},322624]
[7,"Верхнеколымская",127549,108371,-19178,75243,33128]
[8,"Верхоянская",182664,188929,6265,105880,83049]
[9,"Вилюйская",331550,343720,12170,183119,160601]
[10,"Горная",171873,170981,-892,0,170981]
[11,"Жиганская",66411,67356,945,0,67356]
[12,"Кобяйская",223058,223865,807,113441,110424]
[13,"Ленская",335443,337492,2049,260064,77428]
[14,"Момская",49515,49120,-395,0,49120]
[15,"Намская",354881,367839,12958,{"$f":"D19-G19","v":0},367839]
[16,"Нижнеколымская",96286,99938,3652,79518,20420]
[17,"Нюрбинская",381426,378164,-3262,136897,241267]
[18,"Оймяконская",99778,101898,2120,62119,39779]
[19,"Олекминская",313730,302199,-11531,132820,169379]
[20,"Оленекская",32613,36552,3939,0,36552]
[21,"Среднеколымская",64985,61746,-3239,29421,32325]
[22,"Сунтарская",245480,241851,-3629,0,241851]
[23,"Таттинская",229784,231123,1339,0,231123]
[24,"Томпонская",172198,161474,-10724,65184,96290]
[25,"Усть-Алданская",474102,418135,-55967,0,418135]
[26,"Усть-Майская",149126,151021,1895,114283,36738]
[27,"Усть-Янская",160995,171141,10146,86694,84447]
[28,"Хангаласская",434796,417172,-17624,185769,231403]
[29,"Чурапчинская",353687,349010,-4677,0,349010]
[30,"Мирнинская",533916,542360,8444,518176,24184]
[31,"Нерюнгринская",300202,300204,2,285011,15193]
[32,"Эвено-Бытантайcкая",39012,39026,14,0,39026]
[33,"Якутская*",1366973,1403386,{"$f":" D37 - C37","v":36413},{"$f":"D37 - G37","v":1260248},143138]
[34,"Алданский",305211,294094,{"$f":" D38 - C38","v":-11117},{"$f":"D38 - G38","v":284239},9855]
[35,"Мегино-Кангаласский",135715,135757,{"$f":" D39 - C39","v":42},{"$f":"D39 - G39","v":0},135757]
[36,"ГБ ГП \"г.Нерюнгри \"",278828,155768,-123060,155768,0]
[37,"Сунтарская ДЮПБ",50000,50115,115,0,50115]
[38,"Бердигестях ДБ",38915,46686,null,0,46686]
[39,"Хоринская  Ввил.",15610,null,-15610,0]
[40,"Б-ка ГО \"п. Жатай\"",55950,55960,{"$f":" D44 - C44","v":10},55960,0]
[null,"Итого по МБ",{"$f":"SUM(C5:C44)","v":9065556},{"$f":"SUM(D5:D44)","v":8902665},-162891,4384407,{"$f":"SUM(G5:G44)","v":4518258}]
[null,"НБ РС(Я)",676740,1167719,490979,1167719,0]
[null,"ЦДЮ НБ РС(Я)",258496,193025,-65471,193025,0]
[null,"РБС",83763,83555,-208,83555,0]
[null,"ВСЕГО ",{"$f":"SUM(C45:C48)","v":10084555},{"$f":"SUM(D45:D48)","v":10346964},262409,{"$f":"SUM(F45:F48)","v":5828706},{"$f":"SUM(G45:G48)","v":4518258}]
[null,"КДУ",407247,376086,{"$f":"D50-C50","v":-31161},{"$f":"D50-G50","v":59583},316503]
[null,"Итого по РС(Я)",{"$f":"SUM(C49:C50)","v":10491802},{"$f":"SUM(D49:D50)","v":10723050},{"$f":"D51-C51","v":231248},{"$f":"D51-G51","v":5888289},{"$f":"SUM(G49:G50)","v":4834761}]

{"sheet":"т.6.1","index":10,"n_rows":52,"n_cols":8,"rows_kept":52,"cut":false,"hidden":false,"merged":[[1,0,1,6],[3,4,3,7],[3,0,4,0],[3,1,4,1],[3,2,4,2],[3,3,4,3]]}
[null,null,null,null,null,null,"Таблица 6.1"]
["Выдача документов из фондов библиотек"]
[]
["№","ЦБС",2018,2019,"в том числе"]
[null,null,null,null,"из фонда на физ. нос.","из ЭБ","инсталл. док.","сетев. удал. лиц. док."]
[1,"Абыйская",102350,98540,98540]
[2,"Аллаиховская",41741,45580,45580]
[3,"Амгинская",243262,256921,254692,201,null,2028]
[4,"Анабарская",31941,27417,27409,3,null,5]
[5,"Булунская",150847,149130,149130]
[6,"Верхневилюйская*",323153,322624,322311,null,291,22]
[7,"Верхнеколымская",127549,108371,108116,null,242,13]
[8,"Верхоянская",182664,188929,188787,null,142]
[9,"Вилюйская",331550,343720,343720]
[10,"Горная",171873,170981,170126,null,142,713]
[11,"Жиганская",66411,67356,67337,19]
[12,"Кобяйская",223058,223865,223584,203,null,78]
[13,"Ленская",335443,337492,336467,null,null,1025]
[14,"Момская",49515,49120,49120]
[15,"Намская",354881,367839,367803,null,9,27]
[16,"Нижнеколымская",96286,99938,99938]
[17,"Нюрбинская",381426,378164,378164]
[18,"Оймяконская",99778,101898,101898]
[19,"Олекминская",313730,302199,301596,483,120]
[20,"Оленекская",32613,36552,36552]
[21,"Среднеколымская",64985,61746,61746]
[22,"Сунтарская",245480,241851,241243,38,16,554]
[23,"Таттинская",229784,231123,229655,1198,16,254]
[24,"Томпонская",172198,161474,161474]
[25,"Усть-Алданская",474102,418135,413147,2600,2388]
[26,"Усть-Майская",149126,151021,150720,null,301]
[27,"Усть-Янская",160995,171141,171141]
[28,"Хангаласская",434796,417172,381915,32621,2336,300]
[29,"Чурапчинская",353687,349010,349010]
[30,"Мирнинская",533916,542360,539532,null,1509,1319]
[31,"Нерюнгринская",300202,300204,291055,3310,510,5329]
[32,"Эвено-Бытантайcкая",39012,39026,39026]
[33,"Якутская*",1366973,1403386,1398457,null,789,4140]
[34,"Алданский",305211,294094,292561,156,741,636]
[35,"Мегино-Кангаласский",135715,135757,135757]
[36,"ГБ ГП \"г.Нерюнгри \"",278828,155768,149295,null,6473]
[37,"Сунтарская ДЮПБ",50000,50115,50115]
[38,"Бердигестях ДБ",38915,46686,46520,null,null,166]
[39,"Хоринская  Ввил.",15610]
[40,"Б-ка ГО \"п. Жатай\"",55950,55960,55960]
[null,"Итого по МБ",{"$f":"SUM(C6:C45)","v":9065556},8902665,8829199,40832,16025,16609]
[null,"НБ РС(Я)",676740,1167719,642727,437388,3290,84314]
[null,"ЦДЮ НБ РС(Я)",258496,193025,193025]
[null,"РБС",83763,83555,56594,21737,422,4802]
[null,"ВСЕГО ",{"$f":"SUM(C46:C49)","v":10084555},10346964,9721545,499957,19737,105725]
[null,"КДУ",407247,376086,376086]
[null,"Итого по РС(Я)",{"$f":"SUM(C50:C51)","v":10491802},10723050,10097631,499957,19737,105725]

{"sheet":"т.7","index":11,"n_rows":45,"n_cols":8,"rows_kept":45,"cut":false,"hidden":false,"merged":[[1,0,1,7],[2,0,2,7]]}
[null,null,null,null,null,null,"Таблица 7"]
["Общие сведения."]
["Характеристика помещений библиотек республики."]
[]
["№","ЦБС","Кол-во\nбиб-к всего","Общая\nплощадь\n(кв.м.)","требуют\nкап.ремонт\n(ед.)","аварий-\nных\n(ед.)","арендо-\nванных\n(ед.)","прочие"]
[1,"Абыйская ",7,692.5]
[2,"Аллаиховская ",6,407.2]
[3,"Амгинская ",16,1365.7]
[4,"Анабарская ",3,214.2]
[5,"Булунская ",8,822.2,5]
[6,"Верхневилюйская*",23,2330.6]
[7,"Верхнеколымская ",7,1255.2,1,null,1]
[8,"Верхоянская ",17,1186.4000000000001]
[9,"Вилюйская ",24,1650.9,null,2,1]
[10,"Горная",9,856.3,1]
[11,"Жиганская ",5,270.8]
[12,"Кобяйская ",17,1511.8,null,null,13]
[13,"Ленская ",21,2378.6999999999998,null,null,5]
[14,"Момская ",7,591.9]
[15,"Намская ",20,1724,3,2]
[16,"Нижнеколымская ",6,320,null,null,5]
[17,"Нюрбинская",23,1623]
[18,"Оймяконская ",9,803.3,1,null,2]
[19,"Олекминская ",27,1508.8,1]
[20,"Оленекская ",5,357.1,4]
[21,"Среднеколымская ",11,588.5,1]
[22,"Сунтарская ",19,1585.5,null,1]
[23,"Таттинская ",15,1672.2,2]
[24,"Томпонская ",13,1206.2,null,null,1]
[25,"Усть-Алданская",28,2872.4,4,2]
[26,"Усть-Майская ",10,623.1,3,null,7]
[27,"Усть-Янская ",9,554.9,null,null,9]
[28,"Хангаласская ",27,3116.6,1,2,2]
[29,"Чурапчинская ",19,1588.5,1]
[30,"Мирнинская ",11,2720.3,1,null,8]
[31,"Нерюнгринская ",8,1468.9,null,null,1]
[32,"Эвено-Бытантайская ",3,370]
[33,"Якутская* ",18,7939.1,1,1,2]
[34,"Алданский",7,1492.5,null,null,1]
[35,"Мегино-Кангаласский",2,851.6]
[36,"ГБ ГП \"г.Нерюнгри \"",1,1527.5]
[37,"Сунтарская ПДЮБ",1,108.6]
[38,"Бердигестях ДБ",1,192.2]
[39,"Б-ка ГО \"п. Жатай\"",1,270]
[null,"ВСЕГО:",{"$f":"SUM(C6:C44)","v":464},52619.19999999999,30,10,58,0]

{"sheet":"т.8","index":12,"n_rows":53,"n_cols":10,"rows_kept":53,"cut":false,"hidden":false,"merged":[[1,0,1,9],[2,0,2,9],[3,6,3,9]]}
[null,null,null,null,null,null,null,null,"Таблица 8"]
["Материально-техническая база библиотек республики."]
["Количество технических средств, средств связи."]
["№","ЦБС","Всего","число","число","число ","число библиотек, имеющих"]
[null,null,"кол-во","посад.","посад.","посад.","здание","спец.","Интернет","доступ"]
[null,null,"биб-к","мест","мест","мест","для лиц","оборуд.","сайт","в"]
[null,null,null,"для польз.","комп.","с Инт. ","с ОВЗ, пандус","для инвал.","или стр.","Инт."]
[1,"Абыйская ",7,74,9,9,2,2,1,7]
[2,"Аллаиховская ",6,63,7,6,null,null,1,4]
[3,"Амгинская ",16,138,27,25,6,1,2,16]
[4,"Анабарская ",3,25,3,2,null,1,2,3]
[5,"Булунская ",8,96,7,5,null,null,2,8]
[6,"Верхневилюйская*",23,327,49,34,9,1,1,23]
[7,"Верхнеколымская ",7,116,17,12,3,3,1,7]
[8,"Верхоянская ",17,164,13,10,2,1,1,14]
[9,"Вилюйская ",24,206,31,20,10,null,1,24]
[10,"Горная ",9,92,15,11,2,null,1,9]
[11,"Жиганская ",5,40,6,6,null,null,1,5]
[12,"Кобяйская ",17,190,31,27,null,null,1,15]
[13,"Ленская ",21,191,23,23,5,null,2,21]
[14,"Момская ",7,54,7,6,1,null,null,6]
[15,"Намская ",20,221,33,27,9,1,1,19]
[16,"Нижнеколымская ",6,34,4,4,null,null,1,6]
[17,"Нюрбинская",23,218,20,19,null,null,1,22]
[18,"Оймяконская ",9,86,3,3,null,null,1,8]
[19,"Олекминская ",27,258,52,34,7,1,1,22]
[20,"Оленекская ",5,36,8,5,null,null,1,5]
[21,"Среднеколымская ",11,60,8,8,null,null,1,8]
[22,"Сунтарская ",19,180,30,23,12,null,1,17]
[23,"Таттинская ",15,170,27,21,null,null,15,15]
[24,"Томпонская ",13,138,19,15,null,null,1,12]
[25,"Усть-Алданская ",28,332,55,34,6,1,2,28]
[26,"Усть-Майская ",10,56,3,3,null,null,1,10]
[27,"Усть-Янская ",9,57,2,2,null,null,1,7]
[28,"Хангаласская ",27,292,88,38,3,null,2,20]
[29,"Чурапчинская ",19,204,38,28,null,null,1,16]
[30,"Мирнинская ",11,235,25,20,1,2,1,11]
[31,"Нерюнгринская ",8,143,28,25,4,null,8,7]
[32,"Эвено-Бытантайская ",3,10,1,1,null,null,1,3]
[33,"Якутская*",18,644,66,62,8,5,18,18]
[34,"Алданский",7,164,25,22,2,1,2,4]
[35,"Мегино-Кангаласский",2,50,5,5,2,null,2,2]
[36,"ГБ ГП \"г.Нерюнгри \"",1,208,16,16,1,1,1,1]
[37,"Сунтарская ПДЮБ",1,14,null,null,null,null,null,1]
[38,"Бердигестях ДБ",1,36,3,3,null,null,1,1]
[39,"Б-ка ГО \"п. Жатай\"",1,26,null,null,1,null,1,1]
[null,"ИТОГО по МБ",{"$f":"SUM(C8:C46)","v":464},5648,804,614,96,21,83,426]
[null,"НБ РС(Я)",1,404,49,38,1,1,1,1]
[null,"ЦДЮ НБ РС(Я)",1,139,7,7,null,null,1,1]
[null,"РБС",1,16,9,9,null,1,1,1]
[null,"ВСЕГО",{"$f":"SUM(C47:C50)","v":467},6207,869,{"$f":"SUM(F47:F50)","v":668},97,23,86,429]
[null,"КДУ",40,330,41,27,10,null,5,36]
[null,"Итого по РС(Я)",{"$f":"SUM(C51:C52)","v":507},6537,910,695,107,23,91,465]

{"sheet":"т.8.1","index":13,"n_rows":47,"n_cols":10,"rows_kept":47,"cut":false,"hidden":false,"merged":[[1,0,1,9],[2,0,2,9],[3,6,3,9]]}
[null,null,null,null,null,null,null,null,null,"Таблица 8.1"]
["Материально-техническая база библиотек на селе."]
["Количество технических средств, средств связи."]
["№","ЦБС","Всего","число","число","число ","число библиотек, имеющих"]
[null,null,"кол-во","посад.","посад.","посад.","здание","спец.","Интернет","доступ"]
[null,null,"биб-к","мест","мест","мест","для лиц","оборуд.","сайт","в"]
[null,null,null,"для польз.","компьют.","с Инт. ","с ОВЗ, пандус","для инвал.",null,"Интернет"]
[1,"Абыйская ",5,48,5,5,null,null,null,5]
[2,"Аллаиховская ",4,37,3,2,null,null,null,2]
[3,"Амгинская ",16,138,27,25,6,1,2,16]
[4,"Анабарская ",3,25,3,2,null,1,2,3]
[5,"Булунская ",6,48,5,3,null,null,null,6]
[6,"Верхневилюйская*",23,327,49,34,9,1,1,23]
[7,"Верхнеколымская ",5,55,10,5,1,1,null,5]
[8,"Верхоянская ",13,100,9,6,null,null,null,10]
[9,"Вилюйская ",20,121,23,15,7,null,null,20]
[10,"Горная",9,92,15,11,2,null,1,9]
[11,"Жиганская ",5,40,6,6,null,null,1,5]
[12,"Кобяйская ",15,144,17,13,null,null,null,13]
[13,"Ленская ",14,43,14,14,3,null,null,14]
[14,"Момская ",7,54,7,6,1,null,null,6]
[15,"Намская ",20,221,33,27,9,1,1,19]
[16,"Нижнеколымская ",3,16,2,2,null,null,null,3]
[17,"Нюрбинская",20,156,18,17,null,null,null,19]
[18,"Оймяконская ",6,56,1,1,null,null,null,5]
[19,"Олекминская ",25,193,47,29,5,null,null,20]
[20,"Оленекская ",5,36,8,5,null,null,1,5]
[21,"Среднеколымская ",9,38,6,6,null,null,null,6]
[22,"Сунтарская ",19,180,30,23,12,null,1,17]
[23,"Таттинская ",15,170,27,21,null,null,15,15]
[24,"Томпонская ",10,80,14,10,null,null,null,9]
[25,"Усть-Алданская",28,332,55,34,6,1,2,28]
[26,"Усть-Майская ",5,12,null,null,null,null,null,5]
[27,"Усть-Янская ",5,17,null,null,null,null,null,3]
[28,"Хангаласская ",22,169,39,26,2,null,1,16]
[29,"Чурапчинская ",19,204,38,28,null,null,1,16]
[30,"Мирнинская ",3,20,4,2,null,null,null,3]
[31,"Нерюнгринская ",2,18,3,2,null,null,2,2]
[32,"Эвено-Бытантайская ",3,10,1,1,null,null,1,3]
[33,"Якутская*",4,92,14,12,2,1,4,4]
[34,"Алданский",2,17,2]
[35,"Мегино-Кангаласская ",2,50,5,5,2,null,2,2]
[36,"Сунтарская ПДЮБ",1,14,null,null,null,null,null,1]
[37,"Бердигестях ДБ",1,36,3,3,null,null,1,1]
[null,"ВСЕГО:",{"$f":"SUM(C8:C44)","v":374},3409,543,401,67,7,39,339]
[null,"КДУ",35,282,33,21,9,null,null,31]
[null,"Итого по РС(Я)",{"$f":"SUM(C45:C46)","v":409},3691,576,422,76,7,39,370]

{"sheet":"т.9","index":14,"n_rows":52,"n_cols":12,"rows_kept":52,"cut":false,"hidden":false,"merged":[[1,0,1,11],[3,5,3,8],[3,9,3,11]]}
[null,null,null,null,null,null,null,null,null,"Таблица 9"]
["Персонал библиотек республики."]
[]
[null,null,"Штат","Числ.","из них","из них имеют",null,null,null,"со стажем работы"]
["№","ЦБС","библ.","раб-ков","основной","высшее","из них","среднее","из них","до 3","от 3 до","свыше"]
[null,null,null,"всего","персонал","обр.","библ.","спец.","библ.","лет","10 лет","10 лет"]
[1,"Абыйская",20,20,14,7,5,7,6,2,5,7]
[2,"Аллаиховская",15.5,17,11,8,8,2,null,1,4,6]
[3,"Амгинская",57.5,59,42,31,22,9,7,2,11,29]
[4,"Анабарская",8,8,5,1,1,3,1,2,1,2]
[5,"Булунская",32,31,21,5,4,14,9,6,5,10]
[6,"Верхневилюйская*",57.5,65,43,29,26,13,8,10,10,23]
[7,"Верхнеколымская",17.5,22,15,7,5,7,null,3,5,7]
[8,"Верхоянская",54,60,36,15,13,21,10,9,9,18]
[9,"Вилюйская",52.5,58,43,32,21,11,7,7,7,29]
[10,"Горная",24,30,20,18,16,1,1,2,8,10]
[11,"Жиганская",9,9,6,4,4,2,2,1,3,2]
[12,"Кобяйская",45.5,51,32,19,10,13,8,1,11,20]
[13,"Ленская",92,92,54,19,9,24,10,11,21,22]
[14,"Момская",20,22,14,8,7,5,3,5,3,6]
[15,"Намская",57.5,65,38,29,25,7,2,8,8,22]
[16,"Нижнеколымская",15,13,12,3,3,9,6,2,4,6]
[17,"Нюрбинская",63.5,68,46,35,29,9,8,4,10,32]
[18,"Оймяконская",26.5,26,20,9,8,11,6,6,5,9]
[19,"Олекминская",68,68,42,24,12,12,9,5,13,24]
[20,"Оленекская",14.5,14,13,7,4,4,3,2,8,3]
[21,"Среднеколымская",20,20,19,7,6,11,9,2,6,11]
[22,"Сунтарская",51.75,54,36,23,21,11,5,4,13,19]
[23,"Таттинская",42.5,49,31,23,19,8,6,2,7,22]
[24,"Томпонская",38,37,30,19,14,7,5,10,9,11]
[25,"Усть-Алданская",73,91,55,46,43,8,3,8,15,32]
[26,"Усть-Майская",33,33,24,12,7,10,3,6,7,11]
[27,"Усть-Янская",19,19,17,8,6,4,4,7,4,6]
[28,"Хангаласская",65,82,50,42,30,7,4,5,13,32]
[29,"Чурапчинская",48,59,35,30,28,5,3,11,5,19]
[30,"Мирнинская",69.25,72,47,30,22,15,3,7,25,15]
[31,"Нерюнгринская",35.25,36,28,17,9,11,5,4,5,19]
[32,"Эвено-Бытантай",8,10,5,null,null,4,1,null,1,4]
[33,"Якутская*",185,191,169,155,115,13,9,41,43,85]
[34,"Алданский",53.5,53,35,15,6,19,9,4,10,21]
[35,"М.-Кангаласский",29,22,20,19,19,1,1,null,11,9]
[36,"ГБ ГП \"г.Нерюнгри \"",15,15,13,12,5,1,1,null,6,7]
[37,"Сунтарская ПДЮБ",7,7,5,3,3,2,2,1,null,4]
[38,"Бердигестях ДБ",7.5,8,4,4,4,null,null,null,1,3]
[39,"Б-ка ГО \"п. Жатай\"",5,5,3,2,1,1,1,null,1,2]
[null,"Итого по МБ",{"$f":"SUM(C7:C45)","v":1554.75},1661,1153,777,590,322,180,201,333,619]
[null,"НБ РС(Я)",255,215,200,181,138,19,11,26,32,142]
[null,"ЦДЮ НБ РС(Я)",40,41,41,39,21,2,1,4,3,34]
[null,"РБС",17,17,13,11,8,2,null,3,4,6]
[null,"ВСЕГО ",{"$f":"SUM(C46:C49)","v":1866.75},{"$f":"SUM(D46:D49)","v":1934},1407,1008,757,345,192,234,372,801]
[null,"КДУ",61.5,61,50,28,20,17,13,11,12,27]
[null,"Итого по РС(Я)",{"$f":"SUM(C50:C51)","v":1928.25},{"$f":"SUM(D50:D51)","v":1995},1457,1036,777,362,205,245,384,828]

{"sheet":"т.9.1","index":15,"n_rows":46,"n_cols":12,"rows_kept":46,"cut":false,"hidden":false,"merged":[[1,0,1,11],[3,9,3,11],[3,5,3,8]]}
[null,null,null,null,null,null,null,null,null,null,"Таблица 9.1"]
["Персонал библиотек  (из общего числа- в сельской местности)"]
[]
[null,null,"Штат","Числ.","из них","из них имеют",null,null,null,"со стажем работы"]
["№","ЦБС","библ.","раб-ков","осн.","высшее","из них","среднее","из них","от 3 до","от 6 до ","свыше"]
[null,null,null,"всего","перс.","обр.","библ.","спец.","библ.","6 лет","10 лет","10 лет"]
[1,"Абыйская",10,10,6,3,2,3,2,null,2,4]
[2,"Аллаиховская",5.5,7,4,1,1,2,null,null,2,2]
[3,"Амгинская",57.5,59,42,31,22,9,7,2,11,29]
[4,"Анабарская",8,8,5,1,1,3,1,2,1,2]
[5,"Булунская",12,11,7,2,1,3,1,3,1,3]
[6,"Верхневилюйская*",57.5,65,43,29,26,13,8,10,10,23]
[7,"Верхнеколымская",4.5,8,5,null,null,4,null,null,null,5]
[8,"Верхоянская",23,28,13,3,2,10,4,4,2,7]
[9,"Вилюйская",26.5,32,20,15,8,5,3,4,4,12]
[10,"Горная",24,30,20,18,16,1,1,2,8,10]
[11,"Жиганская",9,9,6,4,4,2,2,1,3,2]
[12,"Кобяйская",24.5,30,17,9,7,8,7,1,4,12]
[13,"Ленская",35,35,15,4,3,5,1,3,6,6]
[14,"Момская",20,22,14,8,7,5,3,5,3,6]
[15,"Намская",57.5,65,38,29,25,7,2,8,8,22]
[16,"Нижнеколымская",4,3,3,1,1,2,null,2,null,1]
[17,"Нюрбинская",27,31,23,15,12,8,7,2,3,18]
[18,"Оймяконская",10.5,10,8,6,5,2,2,1,3,4]
[19,"Олекминская",36.5,44,26,11,9,9,7,2,5,19]
[20,"Оленекская",14.5,14,13,7,4,4,3,2,8,3]
[21,"Среднеколымская",9,9,9,2,1,6,5,1,4,4]
[22,"Сунтарская",51.75,54,36,23,21,11,5,4,13,19]
[23,"Таттинская",42.5,49,31,23,19,8,6,2,7,22]
[24,"Томпонская",14,13,12,7,3,3,3,5,4,3]
[25,"Усть-Алданская*",73,91,55,46,43,8,3,8,15,32]
[26,"Усть-Майская",7,7,5,2,1,3,null,1,2,2]
[27,"Усть-Янская",5,5,5,2,2,1,1,1,1,3]
[28,"Хангаласская",29.75,44,23,18,13,5,4,2,6,15]
[29,"Чурапчинская",48,59,35,30,28,5,3,11,5,19]
[30,"Мирнинская",4.5,6,3,1,null,2,null,null,1,2]
[31,"Нерюнгринская",2,2,2,null,null,2,1,1,null,1]
[32,"Эвено-Бытантайская",8,10,5,null,null,4,1,null,1,4]
[33,"Якутская*",12,13,12,11,9,1,null,2,2,8]
[34,"Алданский",2,2,2,null,null,1,null,null,2]
[35,"М.-Кангаласский",29,22,20,19,19,1,1,null,11,9]
[36,"Сунтарская ПДЮБ",7,7,5,3,3,2,2,1,null,4]
[37,"Бердигестях ДБ*",7.5,8,4,4,4,null,null,null,1,3]
[null,"Итого по МБ",{"$f":"SUM(C7:C43)","v":819},922,592,388,322,168,96,93,159,340]
[null,"КДУ",52.5,52,42,25,20,13,11,9,10,23]
[null,"Итого по РС(Я)",{"$f":"SUM(C44:C45)","v":871.5},{"$f":"SUM(D44:D45)","v":974},634,413,342,181,107,102,169,363]

{"sheet":"т.10","index":16,"n_rows":53,"n_cols":10,"rows_kept":53,"cut":false,"hidden":false,"merged":[]}
[null,null,null,null,null,null,"Таблица 10"]
[null,null,"Электронные (сетевые) ресурсы"]
[]
["№","ЦБС","Число","из них","Число","из них","Число","Число","Объем","Объем"]
[null,null,"б-к,",null,"б-к, ","пред.","б-к,","б-к,","ЭК","ЭБ"]
[null,null,"созд.","доступ","им.","док.","им.","им."]
[null,null,"ЭК","к ЭК","ЭБ","в откр.","сетевые","инсталл."]
[null,null,null,"через",null,"доступе","лиценз.","док."]
[null,null,null,"Инт.",null,null,"док."]
[1,"Абыйская",1,1,null,null,null,null,15446]
[2,"Аллаиховская",1,null,null,null,null,null,6095]
[3,"Амгинская",1,1,1,1,1,null,11082,51]
[4,"Анабарская",1,null,1,1,1,null,7126,18]
[5,"Булунская",1,null,null,null,null,null,20122]
[6,"Верхневилюйская*",1,1,1,1,1,1,25324,8879]
[7,"Верхнеколымская",1,null,null,null,1,1,4050]
[8,"Верхоянская",1,1,null,null,null,1,30389]
[9,"Вилюйская",1,1,1,1,null,null,22135,71]
[10,"Горная",1,1,1,1,1,1,7877,46]
[11,"Жиганская",1,1,1,null,null,null,7526,94]
[12,"Кобяйская",1,null,1,1,1,1,21964,73]
[13,"Ленская",1,1,null,null,1,1,18113]
[14,"Момская",1,1,null,null,null,null,2140]
[15,"Намская",1,1,null,null,1,1,18033]
[16,"Нижнеколымская",1,null,null,null,null,null,1503]
[17,"Нюрбинская",1,1,null,null,null,null,6724]
[18,"Оймяконская",1,1,null,null,null,null,7055]
[19,"Олекминская",1,null,1,null,null,1,21223,9990]
[20,"Оленекская",1,1,null,null,null,null,5461]
[21,"Среднеколымская",1,1,null,null,null,null,4040]
[22,"Сунтарская",1,1,1,1,1,1,24710,196]
[23,"Таттинская",1,1,1,1,1,1,14205,484]
[24,"Томпонская",1,null,1,null,null,null,5399,2531]
[25,"Усть-Алданская",1,1,1,1,1,1,9193,362]
[26,"Усть-Майская",1,1,null,null,null,null,5339]
[27,"Усть-Янская",1,null,null,null,null,null,12949]
[28,"Хангаласская",1,1,1,1,1,1,33735,1571]
[29,"Чурапчинская",1,1,null,null,1,2,4200]
[30,"Мирнинская",1,1,1,null,1,1,13739,43]
[31,"Нерюнгринская",1,1,1,1,1,3,62177,1916]
[32,"Эвено-Бытантайская",1,1,null,null,null,null,2110]
[33,"Якутская*",1,1,1,1,2,7,161262,422]
[34,"Алданский",1,1,1,1,1,1,62315,5500]
[35,"Мегино-Канг.",1,1,null,null,null,null,27545]
[36,"ГБ ГП \"г.Нерюнгри \"",1,1,null,null,null,1,33670]
[37,"Сунтарская ПДЮБ"]
[38,"Бердигестях ДБ",null,null,null,null,1]
[39,"Б-ка ГО \"п. Жатай\""]
[null,"Итого по МБ",{"$f":"SUM(C10:C48)","v":36},{"$f":"SUM(D10:D48)","v":27},{"$f":"SUM(E10:E47)","v":17},{"$f":"SUM(F10:F48)","v":13},{"$f":"SUM(G10:G48)","v":19},{"$f":"SUM(H10:H48)","v":27},{"$f":"SUM(I10:I48)","v":735976},{"$f":"SUM(J10:J48)","v":32247}]
[null,"НБ РС(Я)",1,1,1,1,1,1,724458,33840]
[null,"ЦДЮ НБ РС(Я)",1,1,null,null,null,null,63020]
[null,"РБС",1,1,1,1,1,1,29005,19793]
[null,"ВСЕГО ",{"$f":"SUM(C49:C52)","v":39},30,19,15,21,29,1552459,85880]

{"sheet":"т.11","index":17,"n_rows":53,"n_cols":8,"rows_kept":53,"cut":false,"hidden":false,"merged":[[1,0,1,7],[2,0,2,7],[3,3,3,4],[3,5,6,5],[3,6,6,6],[3,7,6,7],[4,3,6,3],[4,4,6,4]]}
[null,null,null,null,null,"Таблица 11"]
["Информационное обслуживание"]
[]
["№","ЦБС","всего","в том числе",null,"Число обращений удал. польз.","Из них обращений к сайту","Выполнено справок и консульт."]
[null,null,"документов","МБА,   ММБА","вирт.    Чит.     Залы"]
[null,null,"из фондов"]
[null,null,"др. б-к"]
[1,"Абыйская ",7,7,null,2250,367,2864]
[2,"Аллаиховская ",null,null,null,378,null,380]
[3,"Амгинская ",332,21,311,2419,1760,4246]
[4,"Анабарская ",null,null,null,908,258,2372]
[5,"Булунская ",null,null,null,1977,1238,3281]
[6,"Верхневилюйская*",89,89,null,9140,417,6003]
[7,"Верхнеколымская ",null,null,null,21558,19932,4470]
[8,"Верхоянская ",13,null,13,1516,3,3678]
[9,"Вилюйская ",null,null,null,20721,19987,11465]
[10,"Горная",2301,2301,null,3421,1302,2023]
[11,"Жиганская ",null,null,null,5533,206,10617]
[12,"Кобяйская ",90,90,null,9722,2679,5104]
[13,"Ленская ",74,74,null,383,null,12024]
[14,"Момская ",3,3,null,207,null,898]
[15,"Намская ",32,32,null,3353,2365,4423]
[16,"Нижнеколымская ",null,null,null,null,null,967]
[17,"Нюрбинская",null,null,null,2201,318,10311]
[18,"Оймяконская ",null,null,null,3434,1575,4029]
[19,"Олекминская ",null,null,null,2873,1037,16225]
[20,"Оленекская ",9,9,null,8345,7456,1372]
[21,"Среднеколымская ",null,null,null,1951,1502,1874]
[22,"Сунтарская ",16,16,null,14794,10490,6048]
[23,"Таттинская ",78,10,68,59570,45513,2803]
[24,"Томпонская ",null,null,null,6391,null,6444]
[25,"Усть-Алданская",null,null,null,15173,5977,18229]
[26,"Усть-Майская ",1143,1143,null,6323,2797,3079]
[27,"Усть-Янская ",null,null,null,3047,598,3580]
[28,"Хангаласская ",459,459,null,18340,14324,12321]
[29,"Чурапчинская ",60,1,59,8038,6641,5789]
[30,"Мирнинская ",10,10,null,9133,5219,12139]
[31,"Нерюнгринская ",82,17,65,22693,19051,9440]
[32,"Эвено-Бытантай",null,null,null,900,25,114]
[33,"Якутская*",431,431,null,47162,17796,24876]
[34,"Алданский",44,2,42,240847,222543,2487]
[35,"Мегино-Канг.",225,225,null,3655,2242,892]
[36,"ГБ ГП \"г.Нерюнгри \"",45,45,null,12201,12201,5524]
[37,"Сунтарская ДЮПБ",null,null,null,null,null,1300]
[38,"Бердигестях ДБ",null,null,null,17969,17135,294]
[39,"Б-ка ГО \"п. Жатай\"",null,null,null,1350,1350,585]
[null,"ИТОГО по МБ",{"$f":"SUM(C8:C46)","v":5543},4985,558,589876,446304,224570]
[null,"НБ РС(Я)",269,18,251,177903,176542,9788]
[null,"ЦДЮ НБ РС(Я)",40,40,null,15143,4562,1617]
[null,"РБС",103,103,null,4324,3322,3121]
[null,"ВСЕГО",{"$f":"SUM(C47:C50)","v":5955},5146,809,787246,630730,239096]
[null,"КДУ",null,null,null,810,null,4054]
[null,"Итого по РС(Я)",{"$f":"SUM(C51:C52)","v":5955},5146,809,788056,630730,243150]

{"sheet":"Лист2","index":18,"n_rows":0,"n_cols":0,"rows_kept":0,"cut":false,"hidden":false,"merged":[]}